Workbook

Sheet 원가계산서
B1: 공 사 원 가 계 산 서
B2: 공사명 : 청소년상담센터 이전공사
B3: 비 목 | E3: 금 액 | F3: 구 성 비 | G3: 비 고
A4: A1 | B4: 순 공 사 원 가 | C4: 재 료 비 | D4: 직 접 재 료 비 | E4: =TRUNC(공종별집계표!F5, 0) -> 0
A5: A2 | D5: 간 접 재 료 비 | E5: 0
A6: A3 | D6: 작업설, 부산물(△) | E6: 0
A7: AS | D7: [ 소 계 ] | E7: =TRUNC(E4+E5-E6, 0) -> 0
A8: B1 | C8: 노 무 비 | D8: 직 접 노 무 비 | E8: =TRUNC(공종별집계표!H5, 0) -> 0
A9: B2 | D9: 간 접 노 무 비 | E9: =TRUNC(E8*0.08, 0) -> 0 | F9: 직접노무비 * 8%
A10: BS | D10: [ 소 계 ] | E10: =TRUNC(E8+E9, 0) -> 0
A11: C2 | C11: 경 비 | D11: 기 계 경 비 | E11: =TRUNC(공종별집계표!J5, 0) -> 0
A12: C4 | D12: 산 재 보 험 료 | E12: =TRUNC(E10*0.0375, 0) -> 0 | F12: 노무비 * 3.75%
A13: C5 | D13: 고 용 보 험 료 | E13: =TRUNC(E10*0.0087, 0) -> 0 | F13: 노무비 * 0.87%
A14: CA | D14: 산업안전보건관리비 | F14: (재료비+직노+도급자관급자재비) * 2.93%
A15: CG | D15: 기 타 경 비 | E15: =TRUNC((E7+E10)*0.056, 0) -> 0 | F15: (재료비+노무비) * 5.6%
A16: CS | D16: [ 소 계 ] | E16: =TRUNC(E11+E12+E13+E14+E15, 0) -> 0
A17: S1 | B17: 계 | E17: =TRUNC(E7+E10+E16, 0) -> 0
A18: D1 | B18: 일 반 관 리 비 | E18: =TRUNC(E17*0.04, 0) -> 0 | F18: 계 * 4%
A19: D2 | B19: 이 윤 | F19: (노무비+경비+일반관리비) * 11%
A20: D4 | B20: 건설 폐기물 처리비 | E20: =TRUNC(공종별집계표!T15, 0) -> 0
A21: D9 | B21: 공 급 가 액 | E21: =TRUNC(INT((E17+E18+E19+E20)/10000)*10000, 0) -> 0
A22: DB | B22: 부 가 가 치 세 | E22: =TRUNC(E21*0.1, 0) -> 0 | F22: 공급가액 * 10%
A23: DH | B23: 도 급 액 | E23: =TRUNC(E21+E22, 0) -> 0
A24: DK | B24: 도급자 관급 자재비 | E24: 4231000 | F24: 금액조정(+780원)
A25: S2 | B25: 총 공 사 비 | E25: =TRUNC(E23+E24, 0) -> 4231000

Sheet 공종별집계표
A1: 공 종 별 집 계 표
A2: [ 청소년상담센터 이전공사 ]
A3: 품 명 | B3: 규 격 | C3: 단위 | D3: 수량 | E3: 재 료 비 | G3: 노 무 비 | I3: 경 비 | K3: 합 계 | M3: 비 고 | N3: 공종코드 | O3: 변수 | P3: 상위공종 | Q3: 공종구분 | R3: 공종레벨 | S3: 공종소계 | T3: 원가계산서 연결금액
E4: 단 가 | F4: 금 액 | G4: 단 가 | H4: 금 액 | I4: 단 가 | J4: 금 액 | K4: 단 가 | L4: 금 액
A5: 01 청소년상담센터 이전공사 | D5: 1 | E5: =F6+F17 -> 0 | F5: =E5*D5 -> 0 | G5: =H6+H17 -> 0 | H5: =G5*D5 -> 0 | I5: =J6+J17 -> 0 | J5: =I5*D5 -> 0 | K5: =E5+G5+I5 -> 0 | L5: =F5+H5+J5 -> 0 | N5: 01 | R5: 1
A6: 0101 ■건축공사 | D6: 1 | E6: =F7+F8+F9+F10+F11+F12+F13+F14 -> 0 | F6: =E6*D6 -> 0 | G6: =H7+H8+H9+H10+H11+H12+H13+H14 -> 0 | H6: =G6*D6 -> 0 | I6: =J7+J8+J9+J10+J11+J12+J13+J14 -> 0 | J6: =I6*D6 -> 0 | K6: =E6+G6+I6 -> 0 | L6: =F6+H6+J6 -> 0 | N6: 0101 | P6: 01 | R6: 2
A7: 010101 가 설 공 사 | D7: 1 | E7: =공종별내역서!F27 -> 0 | F7: =E7*D7 -> 0 | G7: =공종별내역서!H27 -> 0 | H7: =G7*D7 -> 0 | I7: =공종별내역서!J27 -> 0 | J7: =I7*D7 -> 0 | K7: =E7+G7+I7 -> 0 | L7: =F7+H7+J7 -> 0 | N7: 010101 | P7: 0101 | R7: 3
A8: 010102 타 일 공 사 | D8: 1 | E8: =공종별내역서!F51 -> 0 | F8: =E8*D8 -> 0 | G8: =공종별내역서!H51 -> 0 | H8: =G8*D8 -> 0 | I8: =공종별내역서!J51 -> 0 | J8: =I8*D8 -> 0 | K8: =E8+G8+I8 -> 0 | L8: =F8+H8+J8 -> 0 | N8: 010102 | P8: 0101 | R8: 3
A9: 010103 목공사 및 수장공사 | D9: 1 | E9: =공종별내역서!F99 -> 0 | F9: =E9*D9 -> 0 | G9: =공종별내역서!H99 -> 0 | H9: =G9*D9 -> 0 | I9: =공종별내역서!J99 -> 0 | J9: =I9*D9 -> 0 | K9: =E9+G9+I9 -> 0 | L9: =F9+H9+J9 -> 0 | N9: 010103 | P9: 0101 | R9: 3
A10: 010104 금 속 공 사 | D10: 1 | E10: =공종별내역서!F123 -> 0 | F10: =E10*D10 -> 0 | G10: =공종별내역서!H123 -> 0 | H10: =G10*D10 -> 0 | I10: =공종별내역서!J123 -> 0 | J10: =I10*D10 -> 0 | K10: =E10+G10+I10 -> 0 | L10: =F10+H10+J10 -> 0 | N10: 010104 | P10: 0101 | R10: 3
A11: 010105 창호 및 유리공사 | D11: 1 | E11: =공종별내역서!F147 -> 0 | F11: =E11*D11 -> 0 | G11: =공종별내역서!H147 -> 0 | H11: =G11*D11 -> 0 | I11: =공종별내역서!J147 -> 0 | J11: =I11*D11 -> 0 | K11: =E11+G11+I11 -> 0 | L11: =F11+H11+J11 -> 0 | N11: 010105 | P11: 0101 | R11: 3
A12: 010106 칠 공 사 | D12: 1 | E12: =공종별내역서!F171 -> 0 | F12: =E12*D12 -> 0 | G12: =공종별내역서!H171 -> 0 | H12: =G12*D12 -> 0 | I12: =공종별내역서!J171 -> 0 | J12: =I12*D12 -> 0 | K12: =E12+G12+I12 -> 0 | L12: =F12+H12+J12 -> 0 | N12: 010106 | P12: 0101 | R12: 3
A13: 010107 철 거 공 사 | D13: 1 | E13: =공종별내역서!F195 -> 0 | F13: =E13*D13 -> 0 | G13: =공종별내역서!H195 -> 0 | H13: =G13*D13 -> 0 | I13: =공종별내역서!J195 -> 0 | J13: =I13*D13 -> 0 | K13: =E13+G13+I13 -> 0 | L13: =F13+H13+J13 -> 0 | N13: 010107 | P13: 0101 | R13: 3
A14: 010108 골재비및운반비 | D14: 1 | E14: =공종별내역서!F219 -> 0 | F14: =E14*D14 -> 0 | G14: =공종별내역서!H219 -> 0 | H14: =G14*D14 -> 0 | I14: =공종별내역서!J219 -> 0 | J14: =I14*D14 -> 0 | K14: =E14+G14+I14 -> 0 | L14: =F14+H14+J14 -> 0 | N14: 010108 | P14: 0101 | R14: 3
A15: 010109 건설폐기물처리비 | D15: 1 | E15: =공종별내역서!F243 -> 0 | F15: =E15*D15 -> 0 | G15: =공종별내역서!H243 -> 0 | H15: =G15*D15 -> 0 | I15: =공종별내역서!J243 -> 0 | J15: =I15*D15 -> 0 | K15: =E15+G15+I15 -> 0 | L15: =F15+H15+J15 -> 0 | N15: 010109 | Q15: 8 | R15: 3 | T15: =L15*1 -> 0
A16: 010110 도급자관급자재비 | D16: 1 | E16: =공종별내역서!F267 -> 0 | F16: =E16*D16 -> 0 | G16: =공종별내역서!H267 -> 0 | H16: =G16*D16 -> 0 | I16: =공종별내역서!J267 -> 0 | J16: =I16*D16 -> 0 | K16: =E16+G16+I16 -> 0 | L16: =F16+H16+J16 -> 0 | N16: 010110 | Q16: 6 | R16: 3 | T16: =L16*1 -> 0
A17: 0102 ■기계설비공사 | D17: 1 | E17: =공종별내역서!F291 -> 0 | F17: =E17*D17 -> 0 | G17: =공종별내역서!H291 -> 0 | H17: =G17*D17 -> 0 | I17: =공종별내역서!J291 -> 0 | J17: =I17*D17 -> 0 | K17: =E17+G17+I17 -> 0 | L17: =F17+H17+J17 -> 0 | N17: 0102 | P17: 01 | R17: 2
A27: [ 합 계 ] | F27: =F5 -> 0 | H27: =H5 -> 0 | J27: =J5 -> 0 | L27: =L5 -> 0

Sheet 공종별내역서
A1: [ 청소년상담센터 이전공사 ]
A2: 품 명 | B2: 규 격 | C2: 단위 | D2: 수량 | E2: 재 료 비 | G2: 노 무 비 | I2: 경 비 | K2: 합 계 | M2: 비 고 | N2: 품목코드 | O2: 변수 | P2: 설정 | Q2: 공종코드 | R2: 일위 | S2: 단산 | T2: 자 재 | U2: 손료적용 | V2: 손료저장 | W2: 적용율 | X2: JUK1 | Y2: JUK2 | Z2: JUK3 | AA2: JUK4 | AB2: JUK5 | AC2: JUK6 | AD2: JUK7 | AE2: JUK8 | AF2: JUK9 | AG2: JUK10 | AH2: JUK11 | AI2: JUK12 | AJ2: JUK13 | AK2: JUK14 | AL2: JUK15 | AM2: JUK16 | AN2: JUK17 | AO2: JUK18 | AP2: JUK19 | AQ2: JUK20 | AR2: 자재구분 | AS2: 공종구분 | AT2: 공종레벨 | AU2: 공종+자재 | AV2: 고유번호
E3: 단 가 | F3: 금 액 | G3: 단 가 | H3: 금 액 | I3: 단 가 | J3: 금 액 | K3: 단 가 | L3: 금 액
A4: 010101 가 설 공 사 | B4: ■건축공사 | Q4: 010101
A5: 강관 조립말비계(이동식) | B5: 높이 2m, 3개월 | C5: 대 | D5: 3 | N5: 526F82C678C425E0483C08E36AEDE4 | Q5: 010101 | R5: T | S5: F | T5: F | AU5: 010101526F82C678C425E0483C08E36AEDE4 | AV5: 4
A6: 건축물현장정리 | B6: 청소 및 뒤정리 | C6: M2 | D6: 408.5 | N6: 526F82C620C715E7BF3568C5681B15 | Q6: 010101 | R6: T | S6: F | T6: F | AU6: 010101526F82C620C715E7BF3568C5681B15 | AV6: 5
A27: [ 합 계 ] | N27: TOTAL
A28: 010102 타 일 공 사 | B28: ■건축공사 | Q28: 010102
A29: 도기질타일 | B29: 도기질타일,200*200mm | C29: M2 | D29: 0.9 | N29: 554002C619E5753F99310843D6763C7BFC6B2B | Q29: 010102 | R29: F | S29: F | T29: T | AU29: 010102554002C619E5753F99310843D6763C7BFC6B2B | AV29: 7
A30: 타일 접착 붙이기 | B30: 벽, 200*200 | C30: M2 | D30: 0.9 | N30: 526F42A6AA0525EEF338082D5B73DF | Q30: 010102 | R30: T | S30: F | T30: F | AU30: 010102526F42A6AA0525EEF338082D5B73DF | AV30: 8
A51: [ 합 계 ] | N51: TOTAL
A52: 010103 목공사 및 수장공사 | B52: ■건축공사 | Q52: 010103
A53: SONOTOP (P/E) -NM | B53: 1000*2000 | C53: M2 | D53: 255 | N53: 554002C619B8355FD33138C744854B8F84EE89 | R53: F | S53: F | T53: T | AR53: 관급자재 | AU53: 010103554002C619B8355FD33138C744854B8F84EE89 | AV53: 74
A54: 흡음판 설치비 | B54: 벽 | C54: M2 | D54: 231 | N54: 526F62F64FB995F50F3348E46C3286 | Q54: 010103 | R54: T | S54: F | T54: F | AU54: 010103526F62F64FB995F50F3348E46C3286 | AV54: 73
A55: 자재운반비 | C55: 식 | D55: 1 | N55: 53D35206C5B9B5DCB030D8841DCC929FA65AD3 | Q55: 010103 | R55: F | S55: F | T55: T | AU55: 01010353D35206C5B9B5DCB030D8841DCC929FA65AD3 | AV55: 75
A56: 소 계 | N56: 53D2E2B69451A55AD83FD81E37BF | R56: F | S56: F | T56: F | AU56: 01010353D2E2B69451A55AD83FD81E37BF | AV56: 76
A57: 경량칸막이 | B57: 150NGCP | C57: M2 | D57: 87.9 | N57: 53D35206C5B9B5DCB030D8841DCC929FA65AD9 | Q57: 010103 | R57: F | S57: F | T57: T | AU57: 01010353D35206C5B9B5DCB030D8841DCC929FA65AD9 | AV57: 66
A58: 경량칸막이 | B58: 96NGCP | C58: M2 | D58: 172.9 | N58: 53D35206C5B9B5DCB030D8841DCC929FA65AD8 | Q58: 010103 | R58: F | S58: F | T58: T | AU58: 01010353D35206C5B9B5DCB030D8841DCC929FA65AD8 | AV58: 67
A59: 편개문(투시창포함) | B59: 900*2100, 분체도장, 유리포함 | C59: 개소 | D59: 10 | N59: 53D35206C5B9B5DCB030D8841DCC929FA65ADF | Q59: 010103 | R59: F | S59: F | T59: T | AU59: 01010353D35206C5B9B5DCB030D8841DCC929FA65ADF | AV59: 68
A60: 편개문 | B60: 900*2100, 분체도장 | C60: 개소 | D60: 2 | N60: 53D35206C5B9B5DCB030D8841DCC929FA65ADE | Q60: 010103 | R60: F | S60: F | T60: T | AU60: 01010353D35206C5B9B5DCB030D8841DCC929FA65ADE | AV60: 69
A61: 소 계 | N61: 53D2E2B69451A55AD83FD81E37BF | R61: F | S61: F | T61: F | AU61: 01010353D2E2B69451A55AD83FD81E37BF | AV61: 70
A62: 인테리어필름 | B62: 목무늬방염 | C62: M2 | D62: 36.8 | N62: 554002C619B8355C1E38E873D2CB3CFA6DFAF6 | Q62: 010103 | R62: F | S62: F | T62: T | AU62: 010103554002C619B8355C1E38E873D2CB3CFA6DFAF6 | AV62: 10
A63: 에칭필름시트지 | B63: 유리면 | C63: M2 | D63: 7.6 | N63: 554002C619B8355C1E38E873D2CB3CFA6DFA82 | Q63: 010103 | R63: F | S63: F | T63: T | AU63: 010103554002C619B8355C1E38E873D2CB3CFA6DFA82 | AV63: 11
A64: 마루틀 설치 | B64: 30*30, @300 | C64: M2 | D64: 15 | N64: 526F02161ACD15E7EC36D89E47CAB0 | Q64: 010103 | R64: T | S64: F | T64: F | AU64: 010103526F02161ACD15E7EC36D89E47CAB0 | AV64: 12
A65: 바닥합판 깔기 | B65: 합판 9T*2겹 | C65: M2 | D65: 15 | N65: 526F02161ACD15E7EF32183E0CD7C4 | Q65: 010103 | R65: T | S65: F | T65: F | AU65: 010103526F02161ACD15E7EF32183E0CD7C4 | AV65: 13
A66: 비닐시트 깔기 - 전면접합 | B66: 비닐시트, 2.0mm, 모노륨 | C66: M2 | D66: 15 | N66: 526F62F68541A5482A3E18B799D341 | Q66: 010103 | R66: T | S66: F | T66: F | AU66: 010103526F62F68541A5482A3E18B799D341 | AV66: 18
A67: 벽체 틀 | B67: 30*30, @450*600 | C67: M2 | D67: 8.5 | N67: 526F02162B5F15BABA3428F7B95D46 | Q67: 010103 | R67: T | S67: F | T67: F | AU67: 010103526F02162B5F15BABA3428F7B95D46 | AV67: 15
A68: 비닐타일 깔기 | B68: 비닐타일, 3*450*450mm, 데코타일 | C68: M2 | D68: 393.6 | N68: 526F62F68541A5493534E857549D6C | Q68: 010103 | R68: T | S68: F | T68: F | AU68: 010103526F62F68541A5493534E857549D6C | AV68: 17
A69: 도배 - 합판·석고보드면 | B69: 벽, 비닐벽지, 방염형 | C69: M2 | D69: 346.2 | N69: 526F62F6B28FB5DB123548246EAF0B | Q69: 010103 | R69: T | S69: F | T69: F | AU69: 010103526F62F6B28FB5DB123548246EAF0B | AV69: 21
A70: 도배 - 콘크리트·모르타르면 | B70: 벽, 비닐벽지, 방염형 | C70: M2 | D70: 269.2 | N70: 526F62F6B28FB5DC3937E8A5C865FA | Q70: 010103 | R70: T | S70: F | T70: F | AU70: 010103526F62F6B28FB5DC3937E8A5C865FA | AV70: 22
A71: 도배 - 합판·석고보드면 | B71: 천장, 비닐벽지, 방염형 | C71: M2 | D71: 406.1 | N71: 526F62F6B28FB5DDDF3808B6659C51 | Q71: 010103 | R71: T | S71: F | T71: F | AU71: 010103526F62F6B28FB5DDDF3808B6659C51 | AV71: 23
A72: 석고판 나사 고정(바탕용) | B72: 천장, 석고보드(일반),12.5T*2겹 붙임 | C72: M2 | D72: 38 | N72: 526F62F6A00C85B5833ED8E2EE5B5A | Q72: 010103 | R72: T | S72: F | T72: F | AU72: 010103526F62F6A00C85B5833ED8E2EE5B5A | AV72: 24
A73: 배관커버설치 | B73: 400*400, 각재30*30, @300 + MDF15t + 인테리어필름지마감 | C73: M | D73: 4 | N73: 526F02162B5F2541093CD869CC2787 | Q73: 010103 | R73: T | S73: F | T73: F | AU73: 010103526F02162B5F2541093CD869CC2787 | AV73: 16
... A82: 씽크대상부장제작설치 | B82: 하이그로시도장 L900*600 | C82: 개소 | D82: 1 | N82: 526F62F64F8C2542CE3BC83396482E | Q82: 010103 | R82: T | S82: F | T82: F | AU82: 010103526F62F64F8C2542CE3BC83396482E | AV82: 36
A99: [ 합 계 ] | N99: TOTAL
A100: 010104 금 속 공 사 | B100: ■건축공사 | Q100: 010104
A101: 경량철골천정틀 | B101: M-BAR조정,마이너 및 M-BAR보강 | C101: M2 | D101: 13 | N101: 526F3246DCABE5E05B32E8F9550B7C | Q101: 010104 | R101: T | S101: F | T101: F | AU101: 010104526F3246DCABE5E05B32E8F9550B7C | AV101: 38
A102: 천장 점검구 설치 | B102: AL 백색, 600*600mm | C102: 개소 | D102: 9 | N102: 526F3246DCD725A76C31F87CE175F0 | Q102: 010104 | R102: T | S102: F | T102: F | AU102: 010104526F3246DCD725A76C31F87CE175F0 | AV102: 39
A123: [ 합 계 ] | N123: TOTAL
A124: 010105 창호 및 유리공사 | B124: ■건축공사 | Q124: 010105
A125: AUTO01[스텐강화유리자동문] | B125: 0.900 x 2.100 = 1.890 | C125: EA | D125: 2 | N125: 526F52963A9375F21C3198190419BB | Q125: 010105 | R125: T | S125: F | T125: F | AU125: 010105526F52963A9375F21C3198190419BB | AV125: 47
A126: 칸막이출입문부자재 | B126: 편개문용(도어핸들,힌지) | C126: 개소 | D126: 12 | N126: 526F52960D284573A33B98722BB77D | Q126: 010105 | R126: T | S126: F | T126: F | AU126: 010105526F52960D284573A33B98722BB77D | AV126: 53
A127: 창문틀 주위 충전 | B127: 모르타르 충전 | C127: M | D127: 12 | N127: 526F529644B20590A33BC8BFC5A1D1 | Q127: 010105 | R127: T | S127: F | T127: F | AU127: 010105526F529644B20590A33BC8BFC5A1D1 | AV127: 57
A128: 수밀코킹(실리콘) | B128: 삼각, 10mm, 창호주위 | C128: M | D128: 24 | N128: 526F12761DA7E5640F3678005E3565 | Q128: 010105 | R128: T | S128: F | T128: F | AU128: 010105526F12761DA7E5640F3678005E3565 | AV128: 46
A129: 강화유리 | B129: 강화유리, 칼라, 10mm, 그린 | C129: M2 | D129: 3.8 | N129: 554002C619AFA5DDEA3E48AB733E1CA16DB306 | Q129: 010105 | R129: F | S129: F | T129: T | AU129: 010105554002C619AFA5DDEA3E48AB733E1CA16DB306 | AV129: 44
A130: 유리끼우기 - 판유리 | B130: 10mm 이상 | C130: M2 | D130: 3.8 | N130: 526F52965579355A0F3158FD04792A | Q130: 010105 | R130: T | S130: F | T130: F | AU130: 010105526F52965579355A0F3158FD04792A | AV130: 58
A131: 유리주위코킹 | B131: 5*5, 실리콘 | C131: M | D131: 12 | N131: 526F12761DB0350D573EE868BD4C03 | Q131: 010105 | R131: T | S131: F | T131: F | AU131: 010105526F12761DB0350D573EE868BD4C03 | AV131: 45
A147: [ 합 계 ] | N147: TOTAL
A148: 010106 칠 공 사 | B148: ■건축공사 | Q148: 010106
A149: 바탕만들기+수성페인트(롤러칠) | B149: 내부, 2회, 콘크리트·모르타르면, 친환경페인트(진품) | C149: M2 | D149: 15 | N149: 526F72D6CDBAB53DD83DF83C13C496 | Q149: 010106 | R149: T | S149: F | T149: F | AU149: 010106526F72D6CDBAB53DD83DF83C13C496 | AV149: 60
A171: [ 합 계 ] | N171: TOTAL
A172: 010107 철 거 공 사 | B172: ■건축공사 | Q172: 010107
A173: 석고보드 철거(천장) | B173: 12.5T * 2겹 | C173: M2 | D173: 43.5 | N173: 526E8256B0F4750DFF3F38E530859F | Q173: 010107 | R173: T | S173: F | T173: F | AU173: 010107526E8256B0F4750DFF3F38E530859F | AV173: 63
A174: 경량철골천정틀 철거(천장) | C174: M2 | D174: 8.8 | N174: 526E8256B0F4750A28383831FBC7BD | Q174: 010107 | R174: T | S174: F | T174: F | AU174: 010107526E8256B0F4750A28383831FBC7BD | AV174: 64
A175: 창호철거(인력) | B175: 플라스틱문(보관) | C175: M2 | D175: 1.7 | N175: 526E8256B066953CEA3088205CD211 | Q175: 010107 | R175: T | S175: F | T175: F | AU175: 010107526E8256B066953CEA3088205CD211 | AV175: 65
A176: 건설폐기물상차비 | B176: 15ton 덤프트럭 | C176: TON | D176: 1.3 | N176: 526F82C620C7258E213538B61B5D13 | Q176: 010107 | R176: T | S176: F | T176: F | AU176: 010107526F82C620C7258E213538B61B5D13 | AV176: 94
A195: [ 합 계 ] | N195: TOTAL
A196: 010108 골재비및운반비 | B196: ■건축공사 | Q196: 010108
A197: 시멘트 | B197: 40KG 울산 | C197: 포 | D197: 1 | N197: 554002C619CA85B0363A0844D44F5E0D6183C1 | Q197: 010108 | R197: F | S197: F | T197: T | AU197: 010108554002C619CA85B0363A0844D44F5E0D6183C1 | AV197: 97
A198: 모래 | B198: 모래, 울산, 도착도 | C198: M3 | D198: 0.1 | N198: 556CC2664D08A5044137885C4F69DD05ED5409 | Q198: 010108 | R198: F | S198: F | T198: T | AU198: 010108556CC2664D08A5044137885C4F69DD05ED5409 | AV198: 98
A199: 시멘트운반 | B199: L:20km, 덤프8톤 | C199: 포 | D199: 1 | N199: 526ED2D6D0B855278A3FD8EBC4C1E9 | Q199: 010108 | R199: F | S199: T | T199: F | AU199: 010108526ED2D6D0B855278A3FD8EBC4C1E9 | AV199: 99
A219: [ 합 계 ] | N219: TOTAL
A220: 010109 건설폐기물처리비 | B220: ■건축공사 | Q220: 010109
A221: 건설폐기물 -중간처리 | B221: 혼합건설폐기물(폐보드,폐판넬+가연성 5%이하) | C221: TON | D221: 1.3 | N221: 526F82C620C7258E213538B4B23119 | Q221: 010109 | R221: T | S221: F | T221: F | AU221: 010109526F82C620C7258E213538B4B23119 | AV221: 93
A222: 건설폐기물운반비 | B222: 15ton 덤프트럭, 30km | C222: TON | D222: 1.3 | N222: 526F82C620C7258E213538B77CAEEC | Q222: 010109 | R222: T | S222: F | T222: F | AU222: 010109526F82C620C7258E213538B77CAEEC | AV222: 95
A243: [ 합 계 ] | N243: TOTAL
A244: 010110 도급자관급자재비 | B244: ■건축공사 | Q244: 010110
A245: SONOTOP (P/E) -NM | B245: 1000*2000 | C245: M2 | D245: 255 | N245: 554002C619B8355FD33138C744854B8F84EE89 | Q245: 010110 | R245: F | S245: F | T245: T | X245: 1 | AU245: 010110554002C619B8355FD33138C744854B8F84EE89 | AV245: 90
A246: 조달수수료 | B246: 주재료비의 0.54% | C246: 식 | D246: 1 | N246: 5375C2867E1DE5D24C36C89AE4A4001 | Q246: 010110 | R246: F | S246: F | T246: F | U246: 0 | V246: 0 | W246: 0.0054 | AU246: 0101105375C2867E1DE5D24C36C89AE4A4001 | AV246: 91
A267: [ 합 계 ] | N267: TOTAL
A268: 0102 ■기계설비공사 | Q268: 0102
A269: 기계설비공사 | C269: 식 | D269: 1 | N269: 53D35206C5B9B5DCB030D8841DCC929FA65AD2 | Q269: 0102 | R269: F | S269: F | T269: T | AU269: 010253D35206C5B9B5DCB030D8841DCC929FA65AD2 | AV269: 78
A291: [ 합 계 ] | N291: TOTAL

Sheet 단가대비표
A1: 단 가 대 비 표
A2: [ 청소년상담센터 이전공사 ]
A3: 코 드 | B3: 품 명 | C3: 규격 | D3: 단위 | E3: 재 료 비 | P3: 노 무 비 | Q3: 경 비 | W3: 번 호 | X3: 비 고 | Y3: 품목구분 | Z3: 노임구분 | AA3: 소수점처리 | AB3: 자재구분
E4: 조달청가격 | F4: PAGE | G4: 거래가격 | H4: PAGE | I4: 유통물가 | J4: PAGE | K4: 물가자료 | L4: PAGE | M4: 조사가격 | N4: PAGE | O4: 적용단가 | Q4: 조달청가격 | R4: 거래가격 | S4: 유통물가 | T4: 물가자료 | U4: 조사가격 | V4: 적용단가
A5: 557D4276E580950EBC3DE81DF53E48D7BCEC7B | B5: 덤프트럭 | C5: 8ton | D5: 대 | W5: 자재 1 | X5: 천원
A6: 557D4276E580E58CDB39F8D13D30221807F1D9 | B6: 용접기(교류) | C6: 500Amp | D6: 대 | W6: 자재 2 | X6: 천원
A7: 556CC2664D08A5044137885C4E5BBEA80317C6 | B7: 모래 | C7: (별도) | D7: M3 | W7: 자재 3 | X7: 별도
A8: 556CC2664D08A5044137885C4F69DD05ED5409 | B8: 모래 | C8: 모래, 울산, 도착도 | D8: M3 | W8: 자재 4
A9: 556CC2664D35D5DB2839B8A3B72AF13EA8C0FC | B9: 보통합판 | C9: 보통합판, 1급, 9.0*1220*2440mm | D9: M2 | W9: 자재 5
A10: 556CC2664D35D5DB283998F160DA2582A1DA56 | B10: 중밀도섬유판 | C10: 중밀도섬유판, 9.0*1220*2440mm | D10: M2 | W10: 자재 6
A11: 556CC2664D35D5DB283998F160DA2582A1DA54 | B11: 중밀도섬유판 | C11: 중밀도섬유판, 15*1220*2440mm | D11: M2 | W11: 자재 7
A12: 556CC2664D35D5DB283998F160DA2582A1DA55 | B12: 중밀도섬유판 | C12: 중밀도섬유판, 18*1220*2440mm | D12: M2 | W12: 자재 8
A13: 556CC2664D8C05C5A03A889DB182BA65BD4B77 | B13: 철강설 | C13: 철강설, 고철, 작업설부산물 | D13: kg | W13: 자재 9 | X13: 수집상차도
A14: 556CC2664D8C05C5A03A889DB182BA65BD4A6F | B14: 철강설 | C14: 철강설, 스텐레스, 작업설부산물 | D14: kg | W14: 자재 10 | X14: 수집상차도
A15: 556CF236B001751ABA3328306103983388EE50 | B15: 산소가스 | C15: 기체 | D15: L | W15: 자재 11 | X15: 대기압상태기준
A16: 556C8286BCE4F524D93698D817EA1226B72C25 | B16: 경유 | C16: 경유, 저유황 | D16: L | W16: 자재 12
A17: 556C8286BCF54563B33E58A4F93CC6C0A74273 | B17: 아세틸렌가스 | C17: 아세틸렌가스, kg | D17: kg | W17: 자재 13
A18: 55525236E8DDF5DA7538086CF1F1A63A38C6F6 | B18: 용접봉(연강용) | C18: 3.2(KSE4301) | D18: kg | W18: 자재 14
A19: 55525236E8DDF5DA7538086CF1F1A63A3AFB27 | B19: 용접봉(스테인리스) | C19: 3.2(KSD308-16) | D19: kg | W19: 자재 15
A20: 554002C619D4D570063C4809FD9FB8F50508C7 | B20: 일반구조용압연강판 | C20: 일반구조용압연강판, 1.6mm | D20: kg | W20: 자재 16
A21: 554002C619D4D570063C5810EF56CC6B04CC06 | B21: 스테인리스헤어라인판(STS 304) (HL) | C21: 스테인리스헤어라인판, 1.5mm, 부산 대리점상차도 | D21: kg | W21: 자재 17
A22: 554002C619D4C56DF03BA802A61D19EB97D158 | B22: 판재 | C22: 판재, 외송, 일반 | D22: M3 | W22: 자재 18
A23: 554002C619D4C56DF93938EDDC9D522965EE1B | B23: 각재 | C23: 각재, 외송 | D23: 재 | W23: 자재 19
A24: 554002C619D4C56DF93938EDDC9D522965EE14 | B24: 각재 | C24: 각재, 외송 | D24: M3 | W24: 자재 20
A25: 554002C619CA85B0363A0844D44F5E0D61F003 | B25: 시멘트 | C25: 시멘트(별도) | D25: kg | W25: 자재 21 | X25: 별도
A26: 554002C619CA85B0363A0844D44F5E0D6183C1 | B26: 시멘트 | C26: 40KG 울산 | D26: 포 | W26: 자재 22
A27: 554002C619CA85B0363A0844D44F5E0BBD0506 | B27: 특수시멘트 | C27: 특수시멘트, 백색시멘트 | D27: kg | W27: 자재 23
A28: 554002C619E5753F99310843D6763C7BFC6B2B | B28: 도기질타일 | C28: 도기질타일,200*200mm | D28: M2 | W28: 자재 24
A29: 554002C619B8355C1E38988DB5B23861751E73 | B29: 종이벽지 | C29: 종이벽지, 초배지 | D29: M2 | W29: 자재 25
A30: 554002C619B8355C1E38988DB5B238610A8C2B | B30: 방염벽지 | C30: 방염벽지 | D30: M2 | W30: 자재 26
A31: 554002C619B8355C1E38E873D2CB3CFA6DFAF6 | B31: 인테리어필름 | C31: 목무늬방염 | D31: M2 | W31: 자재 27
A32: 554002C619B8355C1E38E873D2CB3CFA6DFAFB | B32: 불투명시트지 | C32: 유리면 | D32: M2 | W32: 자재 28
A33: 554002C619B8355C1E38E873D2CB3CFA6DFA82 | B33: 에칭필름시트지 | C33: 유리면 | D33: M2 | W33: 자재 29
A34: 554002C619B8355C1E38284183A580EB5493EB | B34: 석고보드 | C34: 석고보드, 평보드, 12.5*900*2400mm(㎡) | D34: M2 | W34: 자재 30
A35: 554002C619B8355FD33138C744854BF6B8CD05 | B35: 경량철골천장틀 | C35: 경량철골천장틀, M-BAR더블, 50*19*0.5mm | D35: M | W35: 자재 31
A36: 554002C619B8355FD33138C744854BF6B8C9A7 | B36: 경량철골천장틀 | C36: 경량철골천장틀, 마이너찬넬, 19*10*1.2mm | D36: M | W36: 자재 32
A37: 554002C619B8355FD33138C744854BF6B8C9A5 | B37: 경량철골천장틀 | C37: 경량철골천장틀, 찬넬크립, 37*30*10*1.2mm | D37: 조 | W37: 자재 33
... A41: 554002C619B8355FD33138C744854B8F85F5F8 | B41: 씽크대 | C41: L1200(상부스텐마감) | D41: EA | W41: 자재 37
A42: 554002C619B8355FD33138C744854B8F84EE89 | B42: SONOTOP (P/E) -NM | C42: 1000*2000 | D42: M2 | W42: 자재 38 | X42: 21057436
A43: 554002C619B8355FD33138C744854B8F84EE8A | B43: 연결몰딩(천) | C43: L-BAR | D43: M | W43: 자재 39
A44: 554002C619B8355FD33138C744854B8F84EE8B | B44: 마감몰딩(천) | C44: NE-BAR | D44: M | W44: 자재 40
A45: 554002C619B8355FD33138C744854B8F84EE8C | B45: 코너몰딩(천) | C45: C-BAR | D45: M | W45: 자재 41
A46: 554002C619B8355FD33138C744854B8F84EE8D | B46: 접착제 | D46: ㎏ | W46: 자재 42
A47: 554002C619B8355ECC32180F6B3494842AA302 | B47: 비닐타일 | C47: 비닐타일, 3*450*450mm, 데코타일 | D47: M2 | W47: 자재 43
A48: 554002C619B8355ECC32180F6B3494816EA90D | B48: 비닐시트 | C48: 비닐시트, 2.0mm, 모노륨 | D48: M2 | W48: 자재 44 | X48: LG 명품기준
A49: 554002C619AFA5DF9835F841EB10B468CA781C | B49: 유리문 | C49: 유리문, 12*900*2100mm, 칼라, 세이프강화도어(고급형) | D49: 개 | W49: 자재 45 | X49: 시공비포함
A50: 554002C619AFA5DF993658AE9B877C1C55DA11 | B50: 슬라이딩자동문 | C50: 편개(강화유리문별도) | D50: SET | W50: 자재 46 | X50: 시공도
A51: 554002C619AFA5DF90301897E0E8D7D6DE492C | B51: 점검구 | C51: AL(백색), 600*600mm | D51: 조 | W51: 자재 47
A52: 554002C619AFA5DDEA3E48AB733E1CA16DB306 | B52: 강화유리 | C52: 강화유리, 칼라, 10mm, 그린 | D52: M2 | W52: 자재 48
A53: 554002C619AFA5DDEA3EA830C486189DD44517 | B53: 맑은유리 | C53: 맑은유리, 5mm | D53: M2 | W53: 자재 49
A54: 554002C6194525DB7F34687A5A988F7CECA515 | B54: 비계안정장치 | C54: 비계안정장치, 비계기본틀, 기둥, 1.2*1.7m | D54: 개 | W54: 자재 50
A55: 554002C6194525DB7F34687A5A988F7CECA51B | B55: 비계안정장치 | C55: 비계안정장치, 가새, 1.2*1.9m | D55: 개 | W55: 자재 51
A56: 554002C6194525DB7F34687A5A988F7CECAA96 | B56: 비계안정장치 | C56: 비계안정장치, 수평띠장, 1829mm | D56: 개 | W56: 자재 52
A57: 554002C6194525DB7F34687A5A988F7CECAA97 | B57: 비계안정장치 | C57: 비계안정장치, 손잡이, 1229mm | D57: 개 | W57: 자재 53
A58: 554002C6194525DB7F34687A5A988F7CECAA90 | B58: 비계안정장치 | C58: 비계안정장치, 손잡이, 1829mm | D58: 개 | W58: 자재 54
A59: 554002C6194525DB7F34687A5A988F7CECAA91 | B59: 비계안정장치 | C59: 비계안정장치, 손잡이기둥 | D59: 개 | W59: 자재 55
A60: 554002C6194525DB7F34687A5A988F7CECAA92 | B60: 비계안정장치 | C60: 비계안정장치, 바퀴 | D60: 개 | W60: 자재 56
A61: 554002C6194525DB7F34687A5A988F7CECAA93 | B61: 비계안정장치 | C61: 비계안정장치, 쟈키 | D61: 개 | W61: 자재 57
A62: 554012E66FFC75219E33687F520EC5B8DC8FDC | B62: 일반못 | C62: 일반못, 75mm | D62: kg | W62: 자재 58
... A77: 5222E25693F3A57D303FF8D3D08BB8153304C1 | B77: 공통자재 | C77: 일반경비, 전력 | D77: kwh | W77: 자재 73
A78: 52B0B28646E5B546F539B8223C7F94D62AC70F | B78: 보통인부 | C78: 일반공사 직종 | D78: 인 | W78: 노임 1 | Y78: B
A79: 52B0B28646E5B546F539B8223C7F94D62AC70E | B79: 특별인부 | C79: 일반공사 직종 | D79: 인 | W79: 노임 2 | Y79: B
A80: 52B0B28646E5B546F539B8223C7F94D62AC70B | B80: 비계공 | C80: 일반공사 직종 | D80: 인 | W80: 노임 3 | Y80: B
A81: 52B0B28646E5B546F539B8223C7F94D62AC666 | B81: 철판공 | C81: 일반공사 직종 | D81: 인 | W81: 노임 4 | Y81: B
A82: 52B0B28646E5B546F539B8223C7F94D62AC664 | B82: 용접공 | C82: 일반공사 직종 | D82: 인 | W82: 노임 5 | Y82: B
A83: 52B0B28646E5B546F539B8223C7F94D62AC543 | B83: 건축목공 | C83: 일반공사 직종 | D83: 인 | W83: 노임 6 | Y83: B
A84: 52B0B28646E5B546F539B8223C7F94D62AC544 | B84: 창호공 | C84: 일반공사 직종 | D84: 인 | W84: 노임 7 | Y84: B
A85: 52B0B28646E5B546F539B8223C7F94D62AC545 | B85: 유리공 | C85: 일반공사 직종 | D85: 인 | W85: 노임 8 | Y85: B
A86: 52B0B28646E5B546F539B8223C7F94D62AC547 | B86: 미장공 | C86: 일반공사 직종 | D86: 인 | W86: 노임 9 | Y86: B
A87: 52B0B28646E5B546F539B8223C7F94D62AC548 | B87: 타일공 | C87: 일반공사 직종 | D87: 인 | W87: 노임 10 | Y87: B
A88: 52B0B28646E5B546F539B8223C7F94D62AC549 | B88: 도장공 | C88: 일반공사 직종 | D88: 인 | W88: 노임 11 | Y88: B
A89: 52B0B28646E5B546F539B8223C7F94D62AC4B9 | B89: 내장공 | C89: 일반공사 직종 | D89: 인 | W89: 노임 12 | Y89: B
... A93: 52B0B28646E5B546F539F89DC45A8DDA35EB56 | B93: 코킹공 | C93: 기타 직종 | D93: 인 | W93: 노임 16 | Y93: B
A94: 53D35206C5B9B5DCB030D8841DCC929FA65AD9 | B94: 경량칸막이 | C94: 150NGCP | D94: M2 | W94: 자재 74
A95: 53D35206C5B9B5DCB030D8841DCC929FA65AD8 | B95: 경량칸막이 | C95: 96NGCP | D95: M2 | W95: 자재 75
A96: 53D35206C5B9B5DCB030D8841DCC929FA65ADF | B96: 편개문(투시창포함) | C96: 900*2100, 분체도장, 유리포함 | D96: 개소 | W96: 자재 76
A97: 53D35206C5B9B5DCB030D8841DCC929FA65ADE | B97: 편개문 | C97: 900*2100, 분체도장 | D97: 개소 | W97: 자재 77
A98: 53D35206C5B9B5DCB030D8841DCC929FA65AD3 | B98: 자재운반비 | D98: 식 | W98: 자재 78
A99: 53D35206C5B9B5DCB030D8841DCC929FA65AD2 | B99: 기계설비공사 | D99: 식 | W99: 자재 79

Sheet  공사설정 
A1: 이 Sheet는 수정하지 마십시요
A2: 공사구분 | B2: A
A3: 확정내역 | B3: 원내역
A4: 자재단가적용 | B4: 5
A5: 경비단가적용 | B5: 5
A6: 품목코드형식 | B6: XXXX-XXXX-XXXXXXXXX
A7: 내역금액소수점처리 | B7: C | C7: T
A8: 일위대가내역소수점처리 | B8: C | C8: 2
A9: 단가명 | B9: 조달청가격 | C9: 거래가격 | D9: 유통물가 | E9: 물가자료 | F9: 조사가격 | G9: TTTTT
A10: 환율 | B10: 1118 | C10: 0 | D10: 0
A11: 시간당작업량 | B11: R | C11: 4
A12: 1회 사이클시간 | B12: R | C12: 4
A13: 시간당 작업사이클 | B13: R | C13: 3
A14: 일반변수 | B14: C | C14: 5
A15: 시간당 노임산출 계수 | B15: A | C15: 1/8*16/12*25/20 | D15: 1/8*16/12*25/20 | E15: 1/8*16/12*25/20 | F15: 1
A16: 재료비 할증 계수 | B16: 1.11 | C16: 1.12
A17: 노무비 할증 계수 | B17: 1 | C17: 1.5 | D17: 1.16 | E17: 1.6 | F17: 1.6 | G17: 1.6 | H17: 1.94 | I17: 1.94 | J17: 1.94 | K17: 1 | L17: 1 | M17: 1
A18: 경비 할증 계수 | B18: 1.25 | C18: 1.071
A19: 내역,일위대가 품명,규격,단위 따로적용
A21: 코드 | B21: 공종구분명 | C21: 원가비목코드
A22: 1 | B22: 작 업 부 산 물 | C22: A3
A23: 2 | B23: 운 반 비 | C23: C1
A24: 3 | B24: 관 급 자 재 비 | C24: DJ
A25: 4 | B25: 사 급 자 재 비 | C25: D3
A26: 5 | B26: 외 자 재
A27: 6 | B27: 도급자관급자재비 | C27: DK
A28: 7 | B28: 관급자관급자재비 | C28: DL
A29: 8 | B29: 건설폐기물처리비 | C29: D4
A30: 9 | B30: ...

Sheet Sheet1
